BEGIN:VCALENDAR
VERSION:2.0
PRODID:-//NIHON MURA（日本村）日本語教育イベント・講座情報 - ECPv6.2.6//NONSGML v1.0//EN
CALSCALE:GREGORIAN
METHOD:PUBLISH
X-ORIGINAL-URL:https://events.nihonmura.jp
X-WR-CALDESC:Events for NIHON MURA（日本村）日本語教育イベント・講座情報
REFRESH-INTERVAL;VALUE=DURATION:PT1H
X-Robots-Tag:noindex
X-PUBLISHED-TTL:PT1H
BEGIN:VTIMEZONE
TZID:Asia/Tokyo
BEGIN:STANDARD
TZOFFSETFROM:+0900
TZOFFSETTO:+0900
TZNAME:JST
DTSTART:20220101T000000
END:STANDARD
END:VTIMEZONE
BEGIN:VEVENT
DTSTART;TZID=Asia/Tokyo:20221110T100000
DTEND;TZID=Asia/Tokyo:20221110T110000
DTSTAMP:20260424T234707
CREATED:20221103T140919Z
LAST-MODIFIED:20221103T140919Z
UID:3515-1668074400-1668078000@events.nihonmura.jp
SUMMARY:学校法人新井学園 赤門会日本語学校 学校訪問会＋採用説明会
DESCRIPTION:自分に合った職場環境か、実際に学校を訪問して確認してみよう！\nこれから日本語教師になろうという方、勉強中の方、未経験者、現役教師、\nみなさん大歓迎です！ \n日本語教育の世界へデビューをお考えの方、他校への転職をお考えの経験者の方、ぜひ一度、当学園へ見学にお越しください。\nベテラン講師、新米講師、いろいろな先生方から赤門会の雰囲気や実体験のお話が聞けます。どんなご質問でも大歓迎です。 \n内容 \n1.学校概要の説明（教育課程・コース等）\n2.施設のご案内\n3.採用条件、待遇、応募、採用試験、研修等の説明 \n日時 \n※ご希望の日時を2つお選びください。\n2022年11月7日（月）15：00～16：00\n2022年11月8日（火）10：00～11：00\n2022年11月9日（水）15：00～16：00\n2022年11月10日（木）10：00～11：00\n2022年11月10日（木）15：00～16：00\n2022年11月11日（金）10：00～11：00\n2022年11月11日（金）15：00～16：00\n2022年11月15日（火）10：00～11：00\n2022年11月15日（火）15：00～16：00\n＊応募のご意志のある方は、当日履歴書をご持参ください。\n＊詳細は追ってこちらからご連絡致します。\n＊締め切りは11月11日（金）です。 \n場所 \n赤門会日本語学校 本校本館\n東京都荒川区東日暮里6-39-12 \n申込
URL:https://events.nihonmura.jp/event/2022110306/
CATEGORIES:学校訪問会＋採用説明会
ATTACH;FMTTYPE=image/png:https://events.nihonmura.jp/wp-content/uploads/visit.png
END:VEVENT
BEGIN:VEVENT
DTSTART;TZID=Asia/Tokyo:20221110T100000
DTEND;TZID=Asia/Tokyo:20221110T113000
DTSTAMP:20260424T234707
CREATED:20221030T074343Z
LAST-MODIFIED:20221030T074343Z
UID:3441-1668074400-1668079800@events.nihonmura.jp
SUMMARY:JCLI日本語学校 学校訪問会＋採用説明会
DESCRIPTION:自分に合った職場環境か、実際に学校を訪問して確認してみよう！\nこれから日本語教師になろうという方、勉強中の方、未経験者、現役教師、\nみなさん大歓迎です！ \n当校は東証プライム上場企業の明光ネットワークジャパン傘下の日本語学校です。進学コース、一般日本語コース、ビジネス日本語コース、特定技能コースの4コース制を取っており、大学などへの進学希望の学生のみならず、日本での就職を目指す学生、短期留学で日本語を学ぶ学生など多様な目標を持つ学生が在籍しています。学生の国籍も多岐にわたっており、従来の日本語教育の枠に収まらない教育の実践を目指しています。\n＊将来的に専任もやってみたいという方、大歓迎です。 \n内容 \n学校の説明（学校概要、カリキュラム、使用教材、年間スケジュール、進学実績、等）\n採用説明（採用条件、待遇、選考方法）\n新任講師対象研修内容説明\n校舎見学\n質疑応答\n面接日設定 \n日時 \n2022年11月8日（火）14:30～16:00 ＊11/6（日）締め切り\n2022年11月10日（木）10:00～11:30 ＊11/8（火）締め切り \n場所 \nJCLI日本語学校\n東京都北区豊島8-4-1 \n申込
URL:https://events.nihonmura.jp/event/2022103025/
CATEGORIES:学校訪問会＋採用説明会
ATTACH;FMTTYPE=image/png:https://events.nihonmura.jp/wp-content/uploads/visit.png
END:VEVENT
BEGIN:VEVENT
DTSTART;TZID=Asia/Tokyo:20221110T150000
DTEND;TZID=Asia/Tokyo:20221110T160000
DTSTAMP:20260424T234707
CREATED:20221103T141017Z
LAST-MODIFIED:20221103T141017Z
UID:3518-1668092400-1668096000@events.nihonmura.jp
SUMMARY:学校法人新井学園 赤門会日本語学校 学校訪問会＋採用説明会
DESCRIPTION:自分に合った職場環境か、実際に学校を訪問して確認してみよう！\nこれから日本語教師になろうという方、勉強中の方、未経験者、現役教師、\nみなさん大歓迎です！ \n日本語教育の世界へデビューをお考えの方、他校への転職をお考えの経験者の方、ぜひ一度、当学園へ見学にお越しください。\nベテラン講師、新米講師、いろいろな先生方から赤門会の雰囲気や実体験のお話が聞けます。どんなご質問でも大歓迎です。 \n内容 \n1.学校概要の説明（教育課程・コース等）\n2.施設のご案内\n3.採用条件、待遇、応募、採用試験、研修等の説明 \n日時 \n※ご希望の日時を2つお選びください。\n2022年11月7日（月）15：00～16：00\n2022年11月8日（火）10：00～11：00\n2022年11月9日（水）15：00～16：00\n2022年11月10日（木）10：00～11：00\n2022年11月10日（木）15：00～16：00\n2022年11月11日（金）10：00～11：00\n2022年11月11日（金）15：00～16：00\n2022年11月15日（火）10：00～11：00\n2022年11月15日（火）15：00～16：00\n＊応募のご意志のある方は、当日履歴書をご持参ください。\n＊詳細は追ってこちらからご連絡致します。\n＊締め切りは11月11日（金）です。 \n場所 \n赤門会日本語学校 本校本館\n東京都荒川区東日暮里6-39-12 \n申込
URL:https://events.nihonmura.jp/event/2022110307/
CATEGORIES:学校訪問会＋採用説明会
ATTACH;FMTTYPE=image/png:https://events.nihonmura.jp/wp-content/uploads/visit.png
END:VEVENT
END:VCALENDAR