BEGIN:VCALENDAR
VERSION:2.0
PRODID:-//NIHON MURA（日本村）日本語教育イベント・講座情報 - ECPv6.2.6//NONSGML v1.0//EN
CALSCALE:GREGORIAN
METHOD:PUBLISH
X-WR-CALNAME:NIHON MURA（日本村）日本語教育イベント・講座情報
X-ORIGINAL-URL:https://events.nihonmura.jp
X-WR-CALDESC:Events for NIHON MURA（日本村）日本語教育イベント・講座情報
REFRESH-INTERVAL;VALUE=DURATION:PT1H
X-Robots-Tag:noindex
X-PUBLISHED-TTL:PT1H
BEGIN:VTIMEZONE
TZID:Asia/Tokyo
BEGIN:STANDARD
TZOFFSETFROM:+0900
TZOFFSETTO:+0900
TZNAME:JST
DTSTART:20220101T000000
END:STANDARD
END:VTIMEZONE
BEGIN:VEVENT
DTSTART;TZID=Asia/Tokyo:20220226T100000
DTEND;TZID=Asia/Tokyo:20220226T120000
DTSTAMP:20260424T033201
CREATED:20220117T033747Z
LAST-MODIFIED:20220117T033748Z
UID:2477-1645869600-1645876800@events.nihonmura.jp
SUMMARY:ベナン共和国における教材作成、授業の取り組みを知る
DESCRIPTION:第2回 西アフリカ日本語教育研究会\n「ベナン共和国における教材作成、授業の取り組みを知る」 \n日時： \n2022年2月26日（土）10:00-12:00（日本時間） \n話題提供者： \n大石有香氏(たけし日本語学校 教務)\n石田泰久氏(たけし日本語学校 教師)　ほか \n＜概要＞ \nベナン共和国の「たけし日本語学校」における教師・学生の生活や日々のトラブル、\n教材作成などについてお話しします。 \nベナン共和国というと遠い国の話かと思われるかもしれませんが、参加者の皆様が各自の現場との接点を見つけ、日本語教育の本質やあり方について考え直すことのできる機会になればと思っております。 \n＊参加費は無料です。\n＊オンライン（Zoom）で実施します。\n＊ブレイクアウトルームにて参加者同士で話す時間も設ける予定です。\n＊お申し込み方法\n下記より、2月1日（火）までにお申し込みください。後日、Zoom等の情報をお送りいたします。\nhttps://forms.gle/MHGQFZ8ChQcxEWUb8\n＊問い合わせ先：西アフリカ日本語教育研究会事務局（westafricanihongo[at]gmail.com）（メールのご送信の際は、アドレスの[at]を＠に置き換えてください。）\n責任者：アドゥアヨム・アヘゴ　希佳子（宝塚大学）\n＊本研究会に関する詳細はHP (japanese-language-education-in-west-africa.com)をご参照ください。\n＊本研究会は日本語教育学会グローバル人材奨励プログラムの助成を受けています。
URL:https://events.nihonmura.jp/event/2022011702/
CATEGORIES:一般
END:VEVENT
BEGIN:VEVENT
DTSTART;TZID=Asia/Tokyo:20220226T110000
DTEND;TZID=Asia/Tokyo:20220226T120000
DTSTAMP:20260424T033201
CREATED:20220208T041731Z
LAST-MODIFIED:20220208T042612Z
UID:2575-1645873200-1645876800@events.nihonmura.jp
SUMMARY:仙台ホストファミリー説明会(オンライン)
DESCRIPTION:「ホストファミリーってどんなことをしてあげたらいいの？」「ウチでもできるの？」「こんな時はどうしたらいいんだろう・・・」　などなど、いろいろな質問や不安にお答えします！　下記の3日間、仙台育英学園高等学校ホストファミリー募集説明会をオンラインにて開催いたします。ご都合の良い時間に是非ご自宅のパソコンやスマホからご参加ください。 \n※ホストファミリー登録費用なし、留学生の受け入れ中の謝礼金あり！ \n仙台育英学園高等学校の通学圏にお住まいの方、是非ご参加ください！ \n2022年2月19日（土）10:00～\n2022年2月23日（水・祝）14:00～\n2022年2月26日（土）11:00～\n※申込締切　開催日前日 の 17:00 \n参加はこちらから \nhttps://homestay-in-japan.com/setsumeikai-booking/ \n※お電話、メールでもお受付いたします。ご質問がある方もお気軽にご連絡ください。 \nTEL: 03-3866-0139\nE-mail: support@homestay-in-japan.com\nhttps://homestay-in-japan.com/online-session-sendai/
URL:https://events.nihonmura.jp/event/2022020803/
CATEGORIES:一般
END:VEVENT
BEGIN:VEVENT
DTSTART;TZID=Asia/Tokyo:20220226T150000
DTEND;TZID=Asia/Tokyo:20220226T160000
DTSTAMP:20260424T033201
CREATED:20220208T042940Z
LAST-MODIFIED:20220208T042940Z
UID:2584-1645887600-1645891200@events.nihonmura.jp
SUMMARY:京都エリア ホストファミリー説明会(オンライン)
DESCRIPTION:欧米からの来日留学生に最も人気のある都市のひとつが京都です。毎年沢山の研修団体や個人留学生が、時期を問わず京都エリアでのホームステイを希望しています。世界各地から学生が集まるので、国際交流や語学習得に興味のあるファミリーにとって留学生の受け入れはとてもオススメです！ \nすこしでも興味のある方は、是非お気軽に下記のオンライン説明会で話を聞いてみてください。ご自宅のパソコンやスマホからご参加いただけます。 \n京都エリアホストファミリー募集案件団体例 \n(フランス)ラクロア高校　修学旅行(4泊5日)\n(アメリカ)コルゲート大学日本語研修(3ヶ月)\n(アメリカ)アラモカレッジ 修学旅行(1泊2日)\n(アメリカ)バージニア工科大学 日本語研修(3週間)\n(アメリカ) CIEE 短期日本語研修 (1カ月)\n(メキシコ)元気日本語文化学校 高校生短期日本語研修(5週間)\n(アメリカ) CIEE 高校交換留学生 (4カ月・9カ月)\n(多国籍) ISI日本語学校短期サマーコース \n※上記記載の団体ホームステイ案件はほんの一部となります。また、新型コロナウィルスの感染状況により延期や短縮、キャンセルになる可能性もありますのでご注意ください。\n※CIEEとは、国際交流を図り人類の相互理解を促進することを目的に1947年にアメリカで創設された非営利団体です。 \nホストファミリー登録費用なし、留学生の受け入れ中の謝礼金あり！\n京都市内およびその近隣にお住いの方は、是非ご参加ください！ \nオンライン説明会スケジュール \n2022年2月25日（金）19:00～\n※締切2月24日17時\n2022年2月26日（土）15:00～\n※締切2月25日17時\n2022年2月27日（日）10:00～\n※締切2月25日17時 \n参加はこちらから \nhttps://homestay-in-japan.com/setsumeikai-booking/ \n※お電話、メールでもお受付いたします。ご質問がある方もお気軽にご連絡ください。 \nTEL: 03-3866-0139\nE-mail: support@homestay-in-japan.com\nhttps://homestay-in-japan.com/online-session-kyoto/
URL:https://events.nihonmura.jp/event/2022020805/
CATEGORIES:一般
END:VEVENT
END:VCALENDAR