BEGIN:VCALENDAR
VERSION:2.0
PRODID:-//NIHON MURA（日本村）日本語教育イベント・講座情報 - ECPv6.2.6//NONSGML v1.0//EN
CALSCALE:GREGORIAN
METHOD:PUBLISH
X-WR-CALNAME:NIHON MURA（日本村）日本語教育イベント・講座情報
X-ORIGINAL-URL:https://events.nihonmura.jp
X-WR-CALDESC:Events for NIHON MURA（日本村）日本語教育イベント・講座情報
REFRESH-INTERVAL;VALUE=DURATION:PT1H
X-Robots-Tag:noindex
X-PUBLISHED-TTL:PT1H
BEGIN:VTIMEZONE
TZID:Asia/Tokyo
BEGIN:STANDARD
TZOFFSETFROM:+0900
TZOFFSETTO:+0900
TZNAME:JST
DTSTART:20220101T000000
END:STANDARD
END:VTIMEZONE
BEGIN:VEVENT
DTSTART;TZID=Asia/Tokyo:20220110T093000
DTEND;TZID=Asia/Tokyo:20220110T123000
DTSTAMP:20260426T070222
CREATED:20220111T044639Z
LAST-MODIFIED:20220113T125416Z
UID:2368-1641807000-1641817800@events.nihonmura.jp
SUMMARY:フリーランス日本語教師の働き方セミナー
DESCRIPTION:コロナ禍になり、「フリーランス」という働き方が注目されています。\nこのコロナ禍になり、皆さんオンラインレッスンのプラットフォームに登録し、オンラインレッスンを始めた方、フリーランスに転身された方も多いようです。 \nフリーランスには誰でも簡単になれますが、大変なのはフリーランスになってからです。\nコロナ禍で、プラットフォームでオンラインレッスンを始めたけれど\n「レッスン料を安くしても、なかなか集客できない」\n「継続して学習者が集まらない」 など、お悩みを抱えた方からのご相談が増えています。 \n「日本語教師という仕事は楽しいけどもう少しだけ自由が欲しい」\nそんなモヤモヤを解消したいという前向きな思いをお持ちの先生方を後押しすべく、\nフリーランスとして『自由に働く日本語教師』を叶えるセミナーを開催します。 \nワークショップではどんなフリーランス日本語教師として進んでいくのかを考える\n「自分の強み」を知るワークを行います。\nフリーランス日本語教師として活動する前にまずは「自分自身」を知ることが大切です。\n自己分析で、「自分の強み」を知って、好きな時間に好きなことでレッスンを！\n自分の「好き」をレッスンに活かしましょう。 \n今回は参加者同士の意見交換会も行いますので、日頃のお悩みや疑問を思う存分お話しください。皆さんでシェアしましょう。 \nフリーランス日本語教師の働き方セミナー〜「強み」を活かして自分らしく自由に働くために〜 \n【主催】 \n日本語教師のための実践勉強会 \n【対象】 \n現役日本語教師の方、現在フリーランスとして活動している方、\nフリーランスになりたい日本語教師・養成講座受講生など \n【参加条件】 \n＊zoomアカウントお持ちで基本操作可能な方\n＊当日zoomお顔出し参加OKの方\n＊当セミナーではワークショップを円滑に行うため、参加者の方々のお顔を拝見しながら進行したいと思います。 \n【日時】 \n①2022年1月10日(祝・月)9：30〜12:30（終了）\n②2021年1月21日(金)9：30〜12:30\n③2021年1月29日(土)9：30〜12:30\n（いずれも同内容です。場合によってはお振替も対応いたします。） \n〜日本語教師のための実践勉強会発足５周年記念スペシャル特典〜 \n【参加費】 \n・お一人様：5\,000円　⇨4\,500円\n・ペア割（ペア参加）5\,000円　⇨4\,000円\n・グループ割　3名　5\,000円　⇨3\,500円 \n【定員】 \n各回　10名（先着順・事前振り込み） \nセミナーに参加した直後はモチベーションが高くて当然！\nしかし日常に戻ったとたん、やろうと思っていたことが手につかなくなり\n「あのやる気はどこへやら・・・」\nそんな経験がある方の「セミナーに行ったきり」を無くすべく、豪華特典によりアフタフォローを実施致します。 \n＼セミナー参加の方限定　嬉しい特典付き／ \n【特典その１】 \nセミナー後、「強み」を見つける個別サポートつき \n【特典その２】 \n事後アンケートご回答の方に1カ月無料メール相談し放題 \n【特典その３】 \n「フリーランス日本語教師の働き方セミナー」ご参加の方限定\n「プライベートレッスンってどうやるの?」1000円OFF \n【詳細・申し込み】 \nhttps://www.kokuchpro.com/event/202201AM/\n海外からお申し込みの方で、お申し込みできない場合は事務局までメールでご連絡くださいませ。別途お申し込み方法をご案内いたします。 \n【お問い合わせ】 \n日本語教師のための実践勉強会事務局　nihongobenkyoukai2016@gmail.com
URL:https://events.nihonmura.jp/event/2022011101/
CATEGORIES:一般
END:VEVENT
END:VCALENDAR